BEGIN:VCALENDAR
VERSION:2.0
PRODID:-//hacksw/handcal//NONSGML v1.0//EN
BEGIN:VEVENT
UID:12335
DTSTART;VALUE=DATE:20190516
URL;VALUE=URI:ohschonhell.at/?page_id=27140
SUMMARY:Donnerstag Nacht /w Dimmish (Moan)
LOCATION:SASS
END:VEVENT
END:VCALENDAR


