BEGIN:VCALENDAR
VERSION:2.0
PRODID:-//hacksw/handcal//NONSGML v1.0//EN
BEGIN:VEVENT
UID:12342
DTSTART;VALUE=DATE:20190423
URL;VALUE=URI:ohschonhell.at/?page_id=27156
SUMMARY:Durch die Augen des Finsteren
LOCATION:DONAUTECHNO.COM
END:VEVENT
END:VCALENDAR


