BEGIN:VCALENDAR
VERSION:2.0
PRODID:-//hacksw/handcal//NONSGML v1.0//EN
BEGIN:VEVENT
UID:12363
DTSTART;VALUE=DATE:20190502
URL;VALUE=URI:ohschonhell.at/?page_id=27205
SUMMARY:Donnerstag Nacht x Handverlesen: SE62 &amp\; Nesta
LOCATION:SASS
END:VEVENT
END:VCALENDAR


