BEGIN:VCALENDAR
VERSION:2.0
PRODID:-//hacksw/handcal//NONSGML v1.0//EN
BEGIN:VEVENT
UID:12368
DTSTART;VALUE=DATE:20190518
URL;VALUE=URI:ohschonhell.at/?page_id=27215
SUMMARY:Own Spirit Festival 2019 Teaser Party Wien
LOCATION:WEBERKNECHT
END:VEVENT
END:VCALENDAR


