BEGIN:VCALENDAR
VERSION:2.0
PRODID:-//hacksw/handcal//NONSGML v1.0//EN
BEGIN:VEVENT
UID:12373
DTSTART;VALUE=DATE:20190510
URL;VALUE=URI:ohschonhell.at/?page_id=27225
SUMMARY:1 Year Art Attech - Kunst x Techno
LOCATION:Volkstheater Wien
END:VEVENT
END:VCALENDAR


