BEGIN:VCALENDAR
VERSION:2.0
PRODID:-//hacksw/handcal//NONSGML v1.0//EN
BEGIN:VEVENT
UID:12374
DTSTART;VALUE=DATE:20190503
URL;VALUE=URI:ohschonhell.at/?page_id=27227
SUMMARY:Vienna ist Tropical #Andes w/ RUMBO TUMBA Live
LOCATION:Fanialive
END:VEVENT
END:VCALENDAR


