BEGIN:VCALENDAR
VERSION:2.0
PRODID:-//hacksw/handcal//NONSGML v1.0//EN
BEGIN:VEVENT
UID:12377
DTSTART;VALUE=DATE:20190501
URL;VALUE=URI:ohschonhell.at/?page_id=27233
SUMMARY:MAI TANZ - 1. Mai Rave Official Afterparty (Day2)
LOCATION:ROXY CLUB
END:VEVENT
END:VCALENDAR


