BEGIN:VCALENDAR
VERSION:2.0
PRODID:-//hacksw/handcal//NONSGML v1.0//EN
BEGIN:VEVENT
UID:12380
DTSTART;VALUE=DATE:20190430
URL;VALUE=URI:ohschonhell.at/?page_id=27239
SUMMARY:David &amp\; Goliath
LOCATION:Kramladen
END:VEVENT
END:VCALENDAR


