BEGIN:VCALENDAR
VERSION:2.0
PRODID:-//hacksw/handcal//NONSGML v1.0//EN
BEGIN:VEVENT
UID:12381
DTSTART;VALUE=DATE:20190504
URL;VALUE=URI:ohschonhell.at/?page_id=27241
SUMMARY:Frühlingsfest æ Nordbahnhalle
LOCATION:Nordbahnhalle
END:VEVENT
END:VCALENDAR


