BEGIN:VCALENDAR
VERSION:2.0
PRODID:-//hacksw/handcal//NONSGML v1.0//EN
BEGIN:VEVENT
UID:12382
DTSTART;VALUE=DATE:20190509
URL;VALUE=URI:ohschonhell.at/?page_id=27243
SUMMARY:PeaceSpirit ★ Art-Club ★ Europeday
LOCATION:Heart Club
END:VEVENT
END:VCALENDAR


