BEGIN:VCALENDAR
VERSION:2.0
PRODID:-//hacksw/handcal//NONSGML v1.0//EN
BEGIN:VEVENT
UID:12386
DTSTART;VALUE=DATE:20190510
URL;VALUE=URI:ohschonhell.at/?page_id=27254
SUMMARY:Sternennacht Techno æ Hausfriedensbruch Annex
LOCATION:Kramladen
END:VEVENT
END:VCALENDAR


