BEGIN:VCALENDAR
VERSION:2.0
PRODID:-//hacksw/handcal//NONSGML v1.0//EN
BEGIN:VEVENT
UID:12398
DTSTART;VALUE=DATE:20190524
URL;VALUE=URI:ohschonhell.at/?page_id=27278
SUMMARY:Erna kramt #13 // free entry // riot paul b2b hr lhmn all night
LOCATION:Kramladen
END:VEVENT
END:VCALENDAR


