BEGIN:VCALENDAR
VERSION:2.0
PRODID:-//hacksw/handcal//NONSGML v1.0//EN
BEGIN:VEVENT
UID:12404
DTSTART;VALUE=DATE:20190518
URL;VALUE=URI:ohschonhell.at/?page_id=27290
SUMMARY:Take Festival Closing Party x peng! // Sophienspital
LOCATION:Sophienspital
END:VEVENT
END:VCALENDAR


