BEGIN:VCALENDAR
VERSION:2.0
PRODID:-//hacksw/handcal//NONSGML v1.0//EN
BEGIN:VEVENT
UID:12409
DTSTART;VALUE=DATE:20190519
URL;VALUE=URI:ohschonhell.at/?page_id=27302
SUMMARY:Sonntagsluft |4
LOCATION:Die Hütte am Bellevue
END:VEVENT
END:VCALENDAR


