BEGIN:VCALENDAR
VERSION:2.0
PRODID:-//hacksw/handcal//NONSGML v1.0//EN
BEGIN:VEVENT
UID:12419
DTSTART;VALUE=DATE:20190525
URL;VALUE=URI:ohschonhell.at/?page_id=27325
SUMMARY:2 Jahre Vienna ist Tropical w/ El Remolón live act
LOCATION:Fanialive
END:VEVENT
END:VCALENDAR


