BEGIN:VCALENDAR
VERSION:2.0
PRODID:-//hacksw/handcal//NONSGML v1.0//EN
BEGIN:VEVENT
UID:12432
DTSTART;VALUE=DATE:20190607
URL;VALUE=URI:ohschonhell.at/?page_id=27351
SUMMARY:sama recordings presents samatape010 release party
LOCATION:AU
END:VEVENT
END:VCALENDAR


