BEGIN:VCALENDAR
VERSION:2.0
PRODID:-//hacksw/handcal//NONSGML v1.0//EN
BEGIN:VEVENT
UID:12449
DTSTART;VALUE=DATE:20190511
URL;VALUE=URI:ohschonhell.at/?page_id=27387
SUMMARY:Astronaughty XIV - House Edition
LOCATION:CAMERA CLUB
END:VEVENT
END:VCALENDAR


