BEGIN:VCALENDAR
VERSION:2.0
PRODID:-//hacksw/handcal//NONSGML v1.0//EN
BEGIN:VEVENT
UID:12451
DTSTART;VALUE=DATE:20190503
URL;VALUE=URI:ohschonhell.at/?page_id=27393
SUMMARY:AKOV &#039\;U Want It&#039\; Launch Party W. Guests: Maztek\, IHR &amp\; Dubape
LOCATION:CAMERA CLUB
END:VEVENT
END:VCALENDAR


