BEGIN:VCALENDAR
VERSION:2.0
PRODID:-//hacksw/handcal//NONSGML v1.0//EN
BEGIN:VEVENT
UID:12452
DTSTART;VALUE=DATE:20190614
URL;VALUE=URI:ohschonhell.at/?page_id=27395
SUMMARY:Croydub x Basstrace
LOCATION:Kunstbogen
END:VEVENT
END:VCALENDAR


