BEGIN:VCALENDAR
VERSION:2.0
PRODID:-//hacksw/handcal//NONSGML v1.0//EN
BEGIN:VEVENT
UID:12453
DTSTART;VALUE=DATE:20190529
URL;VALUE=URI:ohschonhell.at/?page_id=27397
SUMMARY:BLVZE X Sully X Danny Scrilla
LOCATION:OPERA CLUB
END:VEVENT
END:VCALENDAR


