BEGIN:VCALENDAR
VERSION:2.0
PRODID:-//hacksw/handcal//NONSGML v1.0//EN
BEGIN:VEVENT
UID:12467
DTSTART;VALUE=DATE:20190531
URL;VALUE=URI:ohschonhell.at/?page_id=27429
SUMMARY:OHRGANIC~ Voodoo
LOCATION:ELEKTRO GÖNNER
END:VEVENT
END:VCALENDAR


