BEGIN:VCALENDAR
VERSION:2.0
PRODID:-//hacksw/handcal//NONSGML v1.0//EN
BEGIN:VEVENT
UID:12468
DTSTART;VALUE=DATE:20190531
URL;VALUE=URI:ohschonhell.at/?page_id=27431
SUMMARY:Technoclubbing
LOCATION:Club Change
END:VEVENT
END:VCALENDAR


