BEGIN:VCALENDAR
VERSION:2.0
PRODID:-//hacksw/handcal//NONSGML v1.0//EN
BEGIN:VEVENT
UID:12472
DTSTART;VALUE=DATE:20190927
URL;VALUE=URI:ohschonhell.at/?page_id=27443
SUMMARY:Hypnotic The End mit Sven Väth
LOCATION:Hypnotic - Electronic Dance Festival
END:VEVENT
END:VCALENDAR


