BEGIN:VCALENDAR
VERSION:2.0
PRODID:-//hacksw/handcal//NONSGML v1.0//EN
BEGIN:VEVENT
UID:12475
DTSTART;VALUE=DATE:20190621
URL;VALUE=URI:ohschonhell.at/?page_id=27451
SUMMARY:Charlotte de Witte - Vienna
LOCATION:HORST
END:VEVENT
END:VCALENDAR


