BEGIN:VCALENDAR
VERSION:2.0
PRODID:-//hacksw/handcal//NONSGML v1.0//EN
BEGIN:VEVENT
UID:12477
DTSTART;VALUE=DATE:20190614
URL;VALUE=URI:ohschonhell.at/?page_id=27455
SUMMARY:One Night in Ibiza
LOCATION:SASS
END:VEVENT
END:VCALENDAR


