BEGIN:VCALENDAR
VERSION:2.0
PRODID:-//hacksw/handcal//NONSGML v1.0//EN
BEGIN:VEVENT
UID:1248
DTSTART;VALUE=DATE:20140516
URL;VALUE=URI:ohschonhell.at/?page_id=3719
SUMMARY:★ SOUNDGARDEN ★ meets JOYCE MUNIZ ★
LOCATION:SÄULENHALLE
END:VEVENT
END:VCALENDAR


