BEGIN:VCALENDAR
VERSION:2.0
PRODID:-//hacksw/handcal//NONSGML v1.0//EN
BEGIN:VEVENT
UID:12482
DTSTART;VALUE=DATE:20190525
URL;VALUE=URI:ohschonhell.at/?page_id=27467
SUMMARY:Summerfeelings
LOCATION:SUMMER STATION
END:VEVENT
END:VCALENDAR


