BEGIN:VCALENDAR
VERSION:2.0
PRODID:-//hacksw/handcal//NONSGML v1.0//EN
BEGIN:VEVENT
UID:12496
DTSTART;VALUE=DATE:20190530
URL;VALUE=URI:ohschonhell.at/?page_id=27500
SUMMARY:Offizielle Crispy Himmelfahrt PartyAfterParty
LOCATION:CAFE DERWISCH
END:VEVENT
END:VCALENDAR


