BEGIN:VCALENDAR
VERSION:2.0
PRODID:-//hacksw/handcal//NONSGML v1.0//EN
BEGIN:VEVENT
UID:12531
DTSTART;VALUE=DATE:20190629
URL;VALUE=URI:ohschonhell.at/?page_id=27584
SUMMARY:OLU 19 | Open Air mit Demuja
LOCATION:OLU Off Location
END:VEVENT
END:VCALENDAR


