BEGIN:VCALENDAR
VERSION:2.0
PRODID:-//hacksw/handcal//NONSGML v1.0//EN
BEGIN:VEVENT
UID:12534
DTSTART;VALUE=DATE:20190615
URL;VALUE=URI:ohschonhell.at/?page_id=27590
SUMMARY:Heimlich unterm Regenbogen
LOCATION:EuroPride Vienna 2019
END:VEVENT
END:VCALENDAR


