BEGIN:VCALENDAR
VERSION:2.0
PRODID:-//hacksw/handcal//NONSGML v1.0//EN
BEGIN:VEVENT
UID:12539
DTSTART;VALUE=DATE:20190608
URL;VALUE=URI:ohschonhell.at/?page_id=27608
SUMMARY:Seh ma sich (endlich wieder) im SASS
LOCATION:SASS
END:VEVENT
END:VCALENDAR


