BEGIN:VCALENDAR
VERSION:2.0
PRODID:-//hacksw/handcal//NONSGML v1.0//EN
BEGIN:VEVENT
UID:12560
DTSTART;VALUE=DATE:20190613
URL;VALUE=URI:ohschonhell.at/?page_id=27654
SUMMARY:Good Vibes
LOCATION:VIENNA CITY BEACH CLUB
END:VEVENT
END:VCALENDAR


