BEGIN:VCALENDAR
VERSION:2.0
PRODID:-//hacksw/handcal//NONSGML v1.0//EN
BEGIN:VEVENT
UID:12574
DTSTART;VALUE=DATE:20190608
URL;VALUE=URI:ohschonhell.at/?page_id=27692
SUMMARY:Puppenhouse on the beach
LOCATION:VIENNA CITY BEACH CLUB
END:VEVENT
END:VCALENDAR


