BEGIN:VCALENDAR
VERSION:2.0
PRODID:-//hacksw/handcal//NONSGML v1.0//EN
BEGIN:VEVENT
UID:12578
DTSTART;VALUE=DATE:20190629
URL;VALUE=URI:ohschonhell.at/?page_id=27704
SUMMARY:Das Karussell - Vernissage &amp\; Clubnacht
LOCATION:Anker.Saal
END:VEVENT
END:VCALENDAR


