BEGIN:VCALENDAR
VERSION:2.0
PRODID:-//hacksw/handcal//NONSGML v1.0//EN
BEGIN:VEVENT
UID:12590
DTSTART;VALUE=DATE:20190613
URL;VALUE=URI:ohschonhell.at/?page_id=27734
SUMMARY:Runtin Ghettorave v6 Flakes Edition
LOCATION:Heart Club
END:VEVENT
END:VCALENDAR


