BEGIN:VCALENDAR
VERSION:2.0
PRODID:-//hacksw/handcal//NONSGML v1.0//EN
BEGIN:VEVENT
UID:12595
DTSTART;VALUE=DATE:20190615
URL;VALUE=URI:ohschonhell.at/?page_id=27744
SUMMARY:HamsterHour
LOCATION:CAFE DERWISCH
END:VEVENT
END:VCALENDAR


