BEGIN:VCALENDAR
VERSION:2.0
PRODID:-//hacksw/handcal//NONSGML v1.0//EN
BEGIN:VEVENT
UID:12602
DTSTART;VALUE=DATE:20190706
URL;VALUE=URI:ohschonhell.at/?page_id=27758
SUMMARY:SanA[r]t meets krüw &amp\; Co
LOCATION:Kunstbogen
END:VEVENT
END:VCALENDAR


