BEGIN:VCALENDAR
VERSION:2.0
PRODID:-//hacksw/handcal//NONSGML v1.0//EN
BEGIN:VEVENT
UID:12612
DTSTART;VALUE=DATE:20190621
URL;VALUE=URI:ohschonhell.at/?page_id=27780
SUMMARY:Domnacht mit Monika Kruse | Springfestival Graz
LOCATION:Domnacht
END:VEVENT
END:VCALENDAR


