BEGIN:VCALENDAR
VERSION:2.0
PRODID:-//hacksw/handcal//NONSGML v1.0//EN
BEGIN:VEVENT
UID:12618
DTSTART;VALUE=DATE:20190615
URL;VALUE=URI:ohschonhell.at/?page_id=27792
SUMMARY:Europride x Legendary Truck Pack x Dual Festival
LOCATION:Regenbogenparade Am Ring
END:VEVENT
END:VCALENDAR


