BEGIN:VCALENDAR
VERSION:2.0
PRODID:-//hacksw/handcal//NONSGML v1.0//EN
BEGIN:VEVENT
UID:12652
DTSTART;VALUE=DATE:20190701
URL;VALUE=URI:ohschonhell.at/?page_id=27891
SUMMARY:Techno Plantscherl // Vienna City Beach Club
LOCATION:VIENNA CITY BEACH CLUB
END:VEVENT
END:VCALENDAR


