BEGIN:VCALENDAR
VERSION:2.0
PRODID:-//hacksw/handcal//NONSGML v1.0//EN
BEGIN:VEVENT
UID:1266
DTSTART;VALUE=DATE:20140518
URL;VALUE=URI:ohschonhell.at/?page_id=3737
SUMMARY:1 Klavier - 2 Performances: ENGELSHARFEN &amp\; TEUFELSGEIGEN Special im Rahmen des Classical:NEXT Festivals
LOCATION:ELEKTRO GÖNNER
END:VEVENT
END:VCALENDAR


