BEGIN:VCALENDAR
VERSION:2.0
PRODID:-//hacksw/handcal//NONSGML v1.0//EN
BEGIN:VEVENT
UID:12660
DTSTART;VALUE=DATE:20190621
URL;VALUE=URI:ohschonhell.at/?page_id=27909
SUMMARY:21.06.19 Eutopia DIF + Afterparty FLEX
LOCATION:Eutopia DJ/VJ Insel am Donauinselfest
END:VEVENT
END:VCALENDAR


