BEGIN:VCALENDAR
VERSION:2.0
PRODID:-//hacksw/handcal//NONSGML v1.0//EN
BEGIN:VEVENT
UID:12662
DTSTART;VALUE=DATE:20190620
URL;VALUE=URI:ohschonhell.at/?page_id=27913
SUMMARY:Connecting People Thursdays
LOCATION:DONAUTECHNO.COM
END:VEVENT
END:VCALENDAR


