BEGIN:VCALENDAR
VERSION:2.0
PRODID:-//hacksw/handcal//NONSGML v1.0//EN
BEGIN:VEVENT
UID:12665
DTSTART;VALUE=DATE:20190619
URL;VALUE=URI:ohschonhell.at/?page_id=27919
SUMMARY:Kw12Mi w/ Dj Warzone n nyth-1
LOCATION:The Real White Rabbit
END:VEVENT
END:VCALENDAR


