BEGIN:VCALENDAR
VERSION:2.0
PRODID:-//hacksw/handcal//NONSGML v1.0//EN
BEGIN:VEVENT
UID:12674
DTSTART;VALUE=DATE:20190620
URL;VALUE=URI:ohschonhell.at/?page_id=27944
SUMMARY:Baulückenkonzert #16: Elektro Guzzi
LOCATION:Baulückenkonzert #16
END:VEVENT
END:VCALENDAR


