BEGIN:VCALENDAR
VERSION:2.0
PRODID:-//hacksw/handcal//NONSGML v1.0//EN
BEGIN:VEVENT
UID:1269
DTSTART;VALUE=DATE:20140509
URL;VALUE=URI:ohschonhell.at/?page_id=3740
SUMMARY:HAPPINESS [09|05|2014]
LOCATION:CHAYA FUERA
END:VEVENT
END:VCALENDAR


