BEGIN:VCALENDAR
VERSION:2.0
PRODID:-//hacksw/handcal//NONSGML v1.0//EN
BEGIN:VEVENT
UID:12694
DTSTART;VALUE=DATE:20190719
URL;VALUE=URI:ohschonhell.at/?page_id=27990
SUMMARY:TEK - OVER
LOCATION:Wien Museum
END:VEVENT
END:VCALENDAR


