BEGIN:VCALENDAR
VERSION:2.0
PRODID:-//hacksw/handcal//NONSGML v1.0//EN
BEGIN:VEVENT
UID:12700
DTSTART;VALUE=DATE:20190704
URL;VALUE=URI:ohschonhell.at/?page_id=28002
SUMMARY:Good Vibes x Open Air
LOCATION:VIENNA CITY BEACH CLUB
END:VEVENT
END:VCALENDAR


