BEGIN:VCALENDAR
VERSION:2.0
PRODID:-//hacksw/handcal//NONSGML v1.0//EN
BEGIN:VEVENT
UID:12701
DTSTART;VALUE=DATE:20190630
URL;VALUE=URI:ohschonhell.at/?page_id=28004
SUMMARY:Kw12So w/ los 3 amigos
LOCATION:The Real White Rabbit
END:VEVENT
END:VCALENDAR


