BEGIN:VCALENDAR
VERSION:2.0
PRODID:-//hacksw/handcal//NONSGML v1.0//EN
BEGIN:VEVENT
UID:12723
DTSTART;VALUE=DATE:20190713
URL;VALUE=URI:ohschonhell.at/?page_id=28062
SUMMARY:Katerfrühstück. #13 groovedit
LOCATION:Kramladen
END:VEVENT
END:VCALENDAR


